BEGIN:VCALENDAR
VERSION:2.0
PRODID:-//APPA - ECPv6.15.17//NONSGML v1.0//EN
CALSCALE:GREGORIAN
METHOD:PUBLISH
X-WR-CALNAME:APPA
X-ORIGINAL-URL:https://appa.qc.ca/cssdm
X-WR-CALDESC:Évènements pour APPA
REFRESH-INTERVAL;VALUE=DURATION:PT1H
X-Robots-Tag:noindex
X-PUBLISHED-TTL:PT1H
BEGIN:VTIMEZONE
TZID:America/New_York
BEGIN:DAYLIGHT
TZOFFSETFROM:-0500
TZOFFSETTO:-0400
TZNAME:EDT
DTSTART:20250309T070000
END:DAYLIGHT
BEGIN:STANDARD
TZOFFSETFROM:-0400
TZOFFSETTO:-0500
TZNAME:EST
DTSTART:20251102T060000
END:STANDARD
BEGIN:DAYLIGHT
TZOFFSETFROM:-0500
TZOFFSETTO:-0400
TZNAME:EDT
DTSTART:20260308T070000
END:DAYLIGHT
BEGIN:STANDARD
TZOFFSETFROM:-0400
TZOFFSETTO:-0500
TZNAME:EST
DTSTART:20261101T060000
END:STANDARD
BEGIN:DAYLIGHT
TZOFFSETFROM:-0500
TZOFFSETTO:-0400
TZNAME:EDT
DTSTART:20270314T070000
END:DAYLIGHT
BEGIN:STANDARD
TZOFFSETFROM:-0400
TZOFFSETTO:-0500
TZNAME:EST
DTSTART:20271107T060000
END:STANDARD
END:VTIMEZONE
BEGIN:VEVENT
DTSTART;VALUE=DATE:20260325
DTEND;VALUE=DATE:20260329
DTSTAMP:20260421T133917
CREATED:20260126T205138Z
LAST-MODIFIED:20260203T222401Z
UID:14669-1774476000-1774735199@appa.qc.ca
SUMMARY:Brillons ensemble | 22e colloque de l'APPA
DESCRIPTION:L’APPA vous présente le 22e colloque : BRILLONS ENSEMBLE!\nUn évènement à ne pas manquer pour tout le personnel de soutien scolaire\, qui aura lieu à Drummondville\, à l’hôtel Le dauphin. \nLors de cette occasion\, des formations adaptées à notre réalité vous seront offertes afin de continuer à parfaire nos connaissances et les mettre en pratique au quotidien. Un excellent moment pour tisser des liens et d’échanger avec d’autres collègues. \nEn espérant vous voir en grand nombre. \nLe Comité Colloque \n Inscrire en ligne du 9 au 13 février 2026\n 
URL:https://appa.qc.ca/cssdm/evenement/brillons-ensemble-22e-colloque/
LOCATION:Hôtel et Suites Le Dauphin Drummondville\, 600\, boul. Saint-Joseph\, Drummondville\, QC\, J2C 2C1\, Canada
ATTACH;FMTTYPE=image/png:https://appa.qc.ca/cssdm/wp-content/uploads/2026/01/banner-web.png
ORGANIZER;CN="APPA":MAILTO:appa@appa.qc.ca
END:VEVENT
END:VCALENDAR