BEGIN:VCALENDAR
VERSION:2.0
PRODID:-//APPA - ECPv6.15.17//NONSGML v1.0//EN
CALSCALE:GREGORIAN
METHOD:PUBLISH
X-WR-CALNAME:APPA
X-ORIGINAL-URL:https://appa.qc.ca/cssdm
X-WR-CALDESC:Évènements pour APPA
REFRESH-INTERVAL;VALUE=DURATION:PT1H
X-Robots-Tag:noindex
X-PUBLISHED-TTL:PT1H
BEGIN:VTIMEZONE
TZID:America/New_York
BEGIN:DAYLIGHT
TZOFFSETFROM:-0500
TZOFFSETTO:-0400
TZNAME:EDT
DTSTART:20230312T070000
END:DAYLIGHT
BEGIN:STANDARD
TZOFFSETFROM:-0400
TZOFFSETTO:-0500
TZNAME:EST
DTSTART:20231105T060000
END:STANDARD
BEGIN:DAYLIGHT
TZOFFSETFROM:-0500
TZOFFSETTO:-0400
TZNAME:EDT
DTSTART:20240310T070000
END:DAYLIGHT
BEGIN:STANDARD
TZOFFSETFROM:-0400
TZOFFSETTO:-0500
TZNAME:EST
DTSTART:20241103T060000
END:STANDARD
BEGIN:DAYLIGHT
TZOFFSETFROM:-0500
TZOFFSETTO:-0400
TZNAME:EDT
DTSTART:20250309T070000
END:DAYLIGHT
BEGIN:STANDARD
TZOFFSETFROM:-0400
TZOFFSETTO:-0500
TZNAME:EST
DTSTART:20251102T060000
END:STANDARD
END:VTIMEZONE
BEGIN:VEVENT
DTSTART;TZID=America/New_York:20240925T170000
DTEND;TZID=America/New_York:20240925T200000
DTSTAMP:20260422T140435
CREATED:20240829T192135Z
LAST-MODIFIED:20240829T204453Z
UID:13123-1727283600-1727294400@appa.qc.ca
SUMMARY:Assemblée générale | Élections et réalisations budgétaires - 25 septembre 2024
DESCRIPTION:L’Assemblée générale aura lieu le mercredi 25 septembre 2024 à 19 heures à l’école secondaire Georges-Vanier. Au cours de cette assemblée\, les réalisations budgétaires 2023 seront présentées et des élections auront lieu pour des postes au comité exécutif de l’APPA\, ainsi qu’un poste au conseil syndical.\n CLIQUEZ ICI POUR PLUS D’INFORMATIONS SUR LE PROCESSUS ÉLECTORAL
URL:https://appa.qc.ca/cssdm/evenement/assemblee-generale-elections-et-budget-25-sep/
LOCATION:École Georges-Vanier (Auditorium)\, 1205\, rue Jarry Est\, Montréal\, Québec\, Canada
CATEGORIES:Assemblée générale,Élections
ATTACH;FMTTYPE=image/jpeg:https://appa.qc.ca/cssdm/wp-content/uploads/2021/06/hand-putting-vote-in-ballot-box.jpg
ORGANIZER;CN="APPA":MAILTO:appa@appa.qc.ca
END:VEVENT
END:VCALENDAR