BEGIN:VCALENDAR
VERSION:2.0
PRODID:-//APPA - ECPv6.15.17//NONSGML v1.0//EN
CALSCALE:GREGORIAN
METHOD:PUBLISH
X-WR-CALNAME:APPA
X-ORIGINAL-URL:https://appa.qc.ca/cssdm
X-WR-CALDESC:Évènements pour APPA
REFRESH-INTERVAL;VALUE=DURATION:PT1H
X-Robots-Tag:noindex
X-PUBLISHED-TTL:PT1H
BEGIN:VTIMEZONE
TZID:America/New_York
BEGIN:DAYLIGHT
TZOFFSETFROM:-0500
TZOFFSETTO:-0400
TZNAME:EDT
DTSTART:20240310T070000
END:DAYLIGHT
BEGIN:STANDARD
TZOFFSETFROM:-0400
TZOFFSETTO:-0500
TZNAME:EST
DTSTART:20241103T060000
END:STANDARD
BEGIN:DAYLIGHT
TZOFFSETFROM:-0500
TZOFFSETTO:-0400
TZNAME:EDT
DTSTART:20250309T070000
END:DAYLIGHT
BEGIN:STANDARD
TZOFFSETFROM:-0400
TZOFFSETTO:-0500
TZNAME:EST
DTSTART:20251102T060000
END:STANDARD
BEGIN:DAYLIGHT
TZOFFSETFROM:-0500
TZOFFSETTO:-0400
TZNAME:EDT
DTSTART:20260308T070000
END:DAYLIGHT
BEGIN:STANDARD
TZOFFSETFROM:-0400
TZOFFSETTO:-0500
TZNAME:EST
DTSTART:20261101T060000
END:STANDARD
END:VTIMEZONE
BEGIN:VEVENT
DTSTART;TZID=America/New_York:20251008T190000
DTEND;TZID=America/New_York:20251008T220000
DTSTAMP:20260421T150256
CREATED:20250910T145751Z
LAST-MODIFIED:20250925T221751Z
UID:14476-1759950000-1759960800@appa.qc.ca
SUMMARY:Assemblée générale | Élections du conseil syndical - 8 oct
DESCRIPTION:L’Assemblée générale aura lieu le mercredi 8 octobre 2025 à 19 heures à l’école secondaire Georges-Vanier. Au cours de cette assemblée\, des élections auront lieu pour les postes au conseil syndical.\n CLIQUEZ ICI POUR PLUS D’INFORMATIONS SUR LE PROCESSUS ÉLECTORAL
URL:https://appa.qc.ca/cssdm/evenement/ag-elections-conseil-syndical-2025/
LOCATION:École Georges-Vanier (Auditorium)\, 1205\, rue Jarry Est\, Montréal\, Québec\, Canada
CATEGORIES:Élections
ATTACH;FMTTYPE=image/jpeg:https://appa.qc.ca/cssdm/wp-content/uploads/2025/09/assemblee-generale-main-674x455-1.jpg
ORGANIZER;CN="APPA":MAILTO:appa@appa.qc.ca
END:VEVENT
END:VCALENDAR