BEGIN:VCALENDAR
VERSION:2.0
PRODID:-//APPA - ECPv6.15.17//NONSGML v1.0//EN
CALSCALE:GREGORIAN
METHOD:PUBLISH
X-ORIGINAL-URL:https://appa.qc.ca/emsb
X-WR-CALDESC:Events for APPA
REFRESH-INTERVAL;VALUE=DURATION:PT1H
X-Robots-Tag:noindex
X-PUBLISHED-TTL:PT1H
BEGIN:VTIMEZONE
TZID:America/Toronto
BEGIN:DAYLIGHT
TZOFFSETFROM:-0500
TZOFFSETTO:-0400
TZNAME:EDT
DTSTART:20230312T070000
END:DAYLIGHT
BEGIN:STANDARD
TZOFFSETFROM:-0400
TZOFFSETTO:-0500
TZNAME:EST
DTSTART:20231105T060000
END:STANDARD
BEGIN:DAYLIGHT
TZOFFSETFROM:-0500
TZOFFSETTO:-0400
TZNAME:EDT
DTSTART:20240310T070000
END:DAYLIGHT
BEGIN:STANDARD
TZOFFSETFROM:-0400
TZOFFSETTO:-0500
TZNAME:EST
DTSTART:20241103T060000
END:STANDARD
BEGIN:DAYLIGHT
TZOFFSETFROM:-0500
TZOFFSETTO:-0400
TZNAME:EDT
DTSTART:20250309T070000
END:DAYLIGHT
BEGIN:STANDARD
TZOFFSETFROM:-0400
TZOFFSETTO:-0500
TZNAME:EST
DTSTART:20251102T060000
END:STANDARD
BEGIN:DAYLIGHT
TZOFFSETFROM:-0500
TZOFFSETTO:-0400
TZNAME:EDT
DTSTART:20260308T070000
END:DAYLIGHT
BEGIN:STANDARD
TZOFFSETFROM:-0400
TZOFFSETTO:-0500
TZNAME:EST
DTSTART:20261101T060000
END:STANDARD
END:VTIMEZONE
BEGIN:VEVENT
DTSTART;TZID=America/Toronto:20251008T190000
DTEND;TZID=America/Toronto:20251008T220000
DTSTAMP:20260424T022952
CREATED:20250910T145544Z
LAST-MODIFIED:20251007T143709Z
UID:11701-1759950000-1759960800@appa.qc.ca
SUMMARY:General Assembly | Union Council Elections -  Oct 8
DESCRIPTION:CLIQUEZ ICI POUR LE FRANÇAIS\nThe assembly will take place on Wednesday\, October 8\, 2025 at École Georges-Vanier at 7:00 p.m.  During this assembly\, we will be holding elections for positions on the APPA-EMSB Union Council.  \n CLICK HERE TO VIEW THE LIST OF CANDIDATES
URL:https://appa.qc.ca/emsb/event/ga-council-elections-2025/
LOCATION:École Georges-Vanier (Auditorium)\, 1205 Jarry Street East\, Montréal\, QC\, H2P 1W9\, Canada
CATEGORIES:Elections
ATTACH;FMTTYPE=image/jpeg:https://appa.qc.ca/emsb/wp-content/uploads/2022/08/Stronger_Together.jpg
END:VEVENT
BEGIN:VEVENT
DTSTART;TZID=America/Toronto:20241127T183000
DTEND;TZID=America/Toronto:20241127T213000
DTSTAMP:20260424T022952
CREATED:20241031T213102Z
LAST-MODIFIED:20241101T142651Z
UID:11300-1732732200-1732743000@appa.qc.ca
SUMMARY:General Assembly | Insurance\, Notices of Motion - Nov 27
DESCRIPTION:CLIQUEZ ICI POUR LE FRANÇAIS\n  \nThe assembly will take place on Wednesday\, November 27\, 2024 at École Georges-Vanier at 7:00 p.m. In this meeting we will present the 2025 group insurance renewal (VOTE)\, and 3 notices of motion that affect the Statutes and and Internal Regulations (VOTE).\nA light buffet will be served at 6:00 p.m.\n\nSIMULTANEOUS TRANSLATION SERVICES TO ENGLISH WILL BE AVAILABLE ONSITE FOR APPA-EMSB MEMBERS.\n\nDRAFT AGENDA\n\nOpening comments\nAdoption of agenda\nApproval and follow-up of the minutes of September 27th\, 2024\nGroup Insurance Renewal (VOTE) \nNotices of motion\n\nThe position of Vice-President for Special Education (VOTE) \nGeneral assemblies held virtually or in hybrid mode (VOTE) \nConducting strike votes virtually (VOTE) \n\n\nVaria\nAdjournment\n\n\n\n    \n            \n            \n        \n    \n\n    \n                2024-11-27 GA  Convocation | Insurance and Motions \n        \n                    File size: 50.75 KB\n                    Updated: 31-10-2024\n        \n    \n    \n                                \n                    Download\n                    \n                \n                    \n                        Preview
URL:https://appa.qc.ca/emsb/event/general-assembly-insurance-motions-nov-27/
LOCATION:École Georges-Vanier (Auditorium)\, 1205 Jarry Street East\, Montréal\, QC\, H2P 1W9\, Canada
CATEGORIES:Elections,General Assembly
ATTACH;FMTTYPE=image/jpeg:https://appa.qc.ca/emsb/wp-content/uploads/2024/10/general-assembly-3-674x455-E.jpg
END:VEVENT
BEGIN:VEVENT
DTSTART;TZID=America/Toronto:20240925T190000
DTEND;TZID=America/Toronto:20240925T210000
DTSTAMP:20260424T022953
CREATED:20240829T182556Z
LAST-MODIFIED:20260408T164703Z
UID:11205-1727290800-1727298000@appa.qc.ca
SUMMARY:General Assembly | Elections and Budget - Sep 25
DESCRIPTION:The assembly will take place on Wednesday\, Septeber 25\, 2024 at École Georges-Vanier at 7:00 p.m.  During this assembly\, we will be holding elections for the position of APPA-EMSB Vice-President on the Executive Commitee.  The 2023 budget achievements and audit comittee report will also be presented.\n CLICK HERE TO VIEW THE LIST OF CANDIDATES
URL:https://appa.qc.ca/emsb/event/general-assembly-elections-and-budget-sep-25/
LOCATION:École Georges-Vanier (Auditorium)\, 1205 Jarry Street East\, Montréal\, QC\, H2P 1W9\, Canada
CATEGORIES:Elections
ATTACH;FMTTYPE=image/jpeg:https://appa.qc.ca/emsb/wp-content/uploads/2025/09/General-Assembly-1-674x455-1.jpg
END:VEVENT
END:VCALENDAR