BEGIN:VCALENDAR
VERSION:2.0
PRODID:-//APPA - ECPv6.15.17//NONSGML v1.0//EN
CALSCALE:GREGORIAN
METHOD:PUBLISH
X-WR-CALNAME:APPA
X-ORIGINAL-URL:https://appa.qc.ca/emsb
X-WR-CALDESC:Events for APPA
REFRESH-INTERVAL;VALUE=DURATION:PT1H
X-Robots-Tag:noindex
X-PUBLISHED-TTL:PT1H
BEGIN:VTIMEZONE
TZID:America/Toronto
BEGIN:DAYLIGHT
TZOFFSETFROM:-0500
TZOFFSETTO:-0400
TZNAME:EDT
DTSTART:20240310T070000
END:DAYLIGHT
BEGIN:STANDARD
TZOFFSETFROM:-0400
TZOFFSETTO:-0500
TZNAME:EST
DTSTART:20241103T060000
END:STANDARD
BEGIN:DAYLIGHT
TZOFFSETFROM:-0500
TZOFFSETTO:-0400
TZNAME:EDT
DTSTART:20250309T070000
END:DAYLIGHT
BEGIN:STANDARD
TZOFFSETFROM:-0400
TZOFFSETTO:-0500
TZNAME:EST
DTSTART:20251102T060000
END:STANDARD
BEGIN:DAYLIGHT
TZOFFSETFROM:-0500
TZOFFSETTO:-0400
TZNAME:EDT
DTSTART:20260308T070000
END:DAYLIGHT
BEGIN:STANDARD
TZOFFSETFROM:-0400
TZOFFSETTO:-0500
TZNAME:EST
DTSTART:20261101T060000
END:STANDARD
END:VTIMEZONE
BEGIN:VEVENT
DTSTART;VALUE=DATE:20251019
DTEND;VALUE=DATE:20251026
DTSTAMP:20260424T080531
CREATED:20251011T131156Z
LAST-MODIFIED:20251015T233016Z
UID:10280-1760832000-1761436799@appa.qc.ca
SUMMARY:Occupational Health & Safety Week | Semaine de la SST
DESCRIPTION:DON’T GAMBLE WITH OCCUPATIONAL HEALTH AND SAFETY\nYou only have one life. Don’t waste it at work. \nToo often\, occupational health and safety problems result from poor work organization\, an inadequate workplace\, or a failure to take into account workplace constraints. \nDid You Know? \nThe role of occupational health and safety representatives is to ensure prevention and protect employees’ rights in matters of occupational health and safety. \nPioneers \nThe matchmakers at the E. B. Eddy factory in Hull worked in appalling conditions at the beginning of the 20th century. Their two historic strikes made them pioneers in occupational health and safety. \nDraw the Right OHS Card \nConcrete actions must be taken at all times to ensure the protection of all workers and improve working conditions. \nAnd to win this game\, unions are one of the essential cards. \nA vibrant union life and the establishment of a balance of power require employers to go beyond being the two of spades and ensure that they take prevention seriously. \nFor the CSN’s National Occupational Health and Safety Week\, draw the right OHS card! \n DOWNLOAD THE TOOLKIT\n(Posters\, Banners and Cards) \n \nON NE DOIT PAS JOUER AVEC LA SST\nVous n’avez qu’une seule vie. Ne la perdez pas au travail. \nTrop souvent\, les problèmes en santé et sécurité du travail (SST) découlent d’une organisation du travail déficiente\, d’un milieu de travail inadéquat ou encore d’un manque de considération des bosses. \n\n\n\n\nLe saviez-vous ?​ \n\n\n\nLe rôle des représentantes et représentants en SST est de veiller à la prévention et à la défense des droits des salarié-es en matière de SST.\n\n\n\n\nDes pionnières \n\n\n\n\nLes allumettières de l’usine E. B. Eddy à Hull travaillaient dans des conditions exécrables au début du XXe siècle. Leurs deux grèves historiques en ont fait des pionnières en santé et sécurité du travail.  \n\n\nTirez la bonne carte de la SST\n\n\n\n\nEn tout temps\, des actions concrètes doivent être entreprises pour assurer la protection de toutes les travailleuses et de tous les travailleurs et pour améliorer les conditions d’emploi. \nEt pour gagner cette partie\, les syndicats font partie des cartes incontournables.   \nUne vie syndicale dynamique et l’établissement d’un rapport de force contraignent les patrons à ne pas se contenter d’être des deux de pique et d’assurer qu’ils prennent la prévention au sérieux. \nPour la Semaine nationale de la santé et de la sécurité du travail de la CSN\, tirez la bonne carte de la SST ! \n OUTILS À TÉLÉCHARGER\n 
URL:https://appa.qc.ca/emsb/event/csn-national-occupational-health-and-safety-week/
CATEGORIES:Health & Safety
ATTACH;FMTTYPE=image/jpeg:https://appa.qc.ca/emsb/wp-content/uploads/2023/08/EN_FB-851x315px_CSN_SST25-scaled.jpg
END:VEVENT
END:VCALENDAR