BEGIN:VCALENDAR
VERSION:2.0
PRODID:-//APPA - ECPv6.15.17//NONSGML v1.0//EN
CALSCALE:GREGORIAN
METHOD:PUBLISH
X-ORIGINAL-URL:https://appa.qc.ca/emsb
X-WR-CALDESC:Events for APPA
REFRESH-INTERVAL;VALUE=DURATION:PT1H
X-Robots-Tag:noindex
X-PUBLISHED-TTL:PT1H
BEGIN:VTIMEZONE
TZID:America/Toronto
BEGIN:DAYLIGHT
TZOFFSETFROM:-0500
TZOFFSETTO:-0400
TZNAME:EDT
DTSTART:20230312T070000
END:DAYLIGHT
BEGIN:STANDARD
TZOFFSETFROM:-0400
TZOFFSETTO:-0500
TZNAME:EST
DTSTART:20231105T060000
END:STANDARD
BEGIN:DAYLIGHT
TZOFFSETFROM:-0500
TZOFFSETTO:-0400
TZNAME:EDT
DTSTART:20240310T070000
END:DAYLIGHT
BEGIN:STANDARD
TZOFFSETFROM:-0400
TZOFFSETTO:-0500
TZNAME:EST
DTSTART:20241103T060000
END:STANDARD
BEGIN:DAYLIGHT
TZOFFSETFROM:-0500
TZOFFSETTO:-0400
TZNAME:EDT
DTSTART:20250309T070000
END:DAYLIGHT
BEGIN:STANDARD
TZOFFSETFROM:-0400
TZOFFSETTO:-0500
TZNAME:EST
DTSTART:20251102T060000
END:STANDARD
BEGIN:DAYLIGHT
TZOFFSETFROM:-0500
TZOFFSETTO:-0400
TZNAME:EDT
DTSTART:20260308T070000
END:DAYLIGHT
BEGIN:STANDARD
TZOFFSETFROM:-0400
TZOFFSETTO:-0500
TZNAME:EST
DTSTART:20261101T060000
END:STANDARD
BEGIN:DAYLIGHT
TZOFFSETFROM:-0500
TZOFFSETTO:-0400
TZNAME:EDT
DTSTART:20270314T070000
END:DAYLIGHT
BEGIN:STANDARD
TZOFFSETFROM:-0400
TZOFFSETTO:-0500
TZNAME:EST
DTSTART:20271107T060000
END:STANDARD
END:VTIMEZONE
BEGIN:VEVENT
DTSTART;VALUE=DATE:20250930
DTEND;VALUE=DATE:20251001
DTSTAMP:20260423T170456
CREATED:20230818T130859Z
LAST-MODIFIED:20250913T192230Z
UID:10277-1759190400-1759276799@appa.qc.ca
SUMMARY:National Day for Truth and Reconciliation
DESCRIPTION:JOURNÉE NATIONALE DE LA VÉRITÉ ET DE LA RÉCONCILIATION\nEn tant que travailleurs de l’éducation engagés envers la santé et le bonheur de nos élèves\, les milliers de vies détruites au cours des 167 années du système des pensionnats nous touchent de près. Les répercussions de ces actions terribles se sont répercutées à travers les générations. On a toujours su que des atrocités étaient commises dans les pensionnats\, mais elles ont rarement été reconnues par notre gouvernement. \nLes cultures riches et diverses des peuples des Premières Nations\, des Inuits et des Métis ont presque disparu du monde. Nous ne pouvons pas défaire le passé\, mais nous pouvons reconnaître\, honorer et redonner le pouvoir à ceux qui peuvent maintenir leurs nations et leurs cultures en vie. \nCette journée est l’occasion de rendre hommage aux enfants qui n’ont jamais pu retourner chez eux et aux survivants des pensionnats ainsi qu’à leurs familles et leurs communautés. Porter du orange le 30 septembre pour rendre hommage aux milliers de survivants des pensionnats. \nNATIONAL DAY FOR TRUTH AND RECONCILIATION\nAs education workers\, committed to the health and happiness of our students\, the thousands of lives destroyed during the 167 years of the residential school system hit close to our hearts. The repercussions of these terrible actions have echoed through generations. It was always known there were atrocities committed at residential schools\, but they were rarely acknowledged by our government. \nThe rich and diverse cultures of the First Nations\, Inuit\, and Métis peoples were almost lost to the world. We cannot undo the past\, but we can recognize\, honour and give back the power to those who can keep their nations and cultures alive. \nThis day honours the children who never returned home and survivors of residential schools\, as well as their families and communities. Wear orange on September 30th to honour the lost children and survivors of residential schools.
URL:https://appa.qc.ca/emsb/event/national-day-for-truth-and-reconciliation/
CATEGORIES:Social
ATTACH;FMTTYPE=image/jpeg:https://appa.qc.ca/emsb/wp-content/uploads/2021/09/National-Truth-Reconciliation.jpg
END:VEVENT
BEGIN:VEVENT
DTSTART;VALUE=DATE:20260308
DTEND;VALUE=DATE:20260309
DTSTAMP:20260423T170456
CREATED:20230131T185550Z
LAST-MODIFIED:20250827T164835Z
UID:9998-1772928000-1773014399@appa.qc.ca
SUMMARY:International Women's Rights Day | Journée internationale des droits des femmes
DESCRIPTION:The CSN slogan and visual for International Women’s Rights Day 2025 is: STILL STRIVING.\nThe theme for the 2025 International Women’s Day\, Still Striving\, is at the heart of the CSN’s mission. Our Confederal Committee on the Status of Women also just celebrated its 50th anniversary last December. As we stand today\, still far from equality between women and men\, So many feminist struggles call for our attention. \nVisit csn.qc.ca/8mars to download the poster and social media tools. \nLe slogan de la CSN pour la Journée internationale des droits des femmes 2025 est: ENCORE EN LUTTE.\nEn 2025\, le slogan Encore en lutte souligne toute la persévérance dans la défense des droits des femmes et des personnes marginalisées face aux oppressions persistantes. Cette année de Marche mondiale des femmes donnera un autre élan à nos luttes pour dénoncer la violence envers les femmes\, la pauvreté\, et les choix qui ont causé et qui aggravent la crise environnementale. En ce 8 mars\, l’engagement féministe intersectionnel reste inébranlable ! \nVisitez csn.qc.ca/8mars pour télécharger l’affiche et les outils de médias sociaux.
URL:https://appa.qc.ca/emsb/event/international-womens-day/
CATEGORIES:Social,Status of Women Committee
ATTACH;FMTTYPE=image/png:https://appa.qc.ca/emsb/wp-content/uploads/2023/01/2025_8mars_Banniere_Facebook_EN.png
END:VEVENT
BEGIN:VEVENT
DTSTART;TZID=America/Toronto:20250117T190000
DTEND;TZID=America/Toronto:20250117T235900
DTSTAMP:20260423T170456
CREATED:20241109T050050Z
LAST-MODIFIED:20250220T154955Z
UID:11329-1737140400-1737158340@appa.qc.ca
SUMMARY:APPA New Year's Party - Jan 17
DESCRIPTION: \n SEE PHOTOS FROM THE EVENT\nDOOR PRIZES – PHOTO BOOTH – ENTERTAINMENT BY DJ ÉRIQ DESLAURIERS\nPRIX DE PRÉSENCE – PHOTOMATON – ANIMATION AVEC DJ ÉRIQ DESLAURIERS\nBuy your Tickets | Achetez vos billets\n\nTickets are presale only. No tickets will be sold at the door. | Les billets sont en prévente uniquement. Aucun billet ne sera vendu à la porte. \nAPPA Members | Membres APPA – $15.00\nNon-Members | Non-membres – $50.00 \nRegister from December 9 to January 10\, 2025. | Inscrivez-vous du 9 décembre au 10 janvier 2025. \n\n \n\nWhere | Où\nCollège de Maisonneuve\n3800\, rue Sherbrooke est\nMontréal\, QC H1X 2A2\n(entrée par la rue Nicolet) \n\nWhen | Quand\nFriday\, January 17 2025 | Vendredi\, le 17 janvier 2025\nFrom 7:00 p.m. to 1:00 a.m. | De 19h00 à 1h00 \n\nMenu\nLate-Night Snack | Léger goúter en fin de soirée \n 
URL:https://appa.qc.ca/emsb/event/newyear-2025/
LOCATION:Collège de Maisonneuve\, 3800\, rue Sherbrooke est\, Montréal\, QC\, H1X 2A2\, Canada
CATEGORIES:Social,Union Life
ATTACH;FMTTYPE=image/png:https://appa.qc.ca/emsb/wp-content/uploads/2024/11/new-years-party-2025.png
END:VEVENT
BEGIN:VEVENT
DTSTART;TZID=America/Toronto:20240517T170000
DTEND;TZID=America/Toronto:20240517T190000
DTSTAMP:20260423T170456
CREATED:20240509T210138Z
LAST-MODIFIED:20240509T211454Z
UID:11155-1715965200-1715972400@appa.qc.ca
SUMMARY:5 à 7 Pride Event at Chez Mado | May 17
DESCRIPTION:  \nThe APPA LGBT committee invites you to a “5 a 7” happy hour (free admission) at Cabaret Mado\, located in the Gay Village\, 1115 rue Sainte-Catherine Est. \nA small participation gift will be given to you on site plus one free drink per participant! \nWe are waiting for you in large numbers to mark the International Day Against Homophobia and Transphobia and get to know «the village» \nThis activity is for all APPA members.\nPlease do not forget your union membership card.
URL:https://appa.qc.ca/emsb/event/5-a-7-pride-event-at-chez-mado/
LOCATION:Cabaret Mado\, 1115 rue Sainte-Catherine Est\, Montreal\, QC\, Canada
CATEGORIES:LGBT,Social
ATTACH;FMTTYPE=image/jpeg:https://appa.qc.ca/emsb/wp-content/uploads/2024/05/LGBT-Mado-2024en.jpg
END:VEVENT
END:VCALENDAR